BEGIN:VCALENDAR
VERSION:2.0
PRODID:-//Suffah Academy - ECPv6.15.20//NONSGML v1.0//EN
CALSCALE:GREGORIAN
METHOD:PUBLISH
X-ORIGINAL-URL:https://suffah.academy
X-WR-CALDESC:Events for Suffah Academy
REFRESH-INTERVAL;VALUE=DURATION:PT1H
X-Robots-Tag:noindex
X-PUBLISHED-TTL:PT1H
BEGIN:VTIMEZONE
TZID:UTC
BEGIN:STANDARD
TZOFFSETFROM:+0000
TZOFFSETTO:+0000
TZNAME:UTC
DTSTART:20230101T000000
END:STANDARD
END:VTIMEZONE
BEGIN:VEVENT
DTSTART;TZID=UTC:20260402T110000
DTEND;TZID=UTC:20260402T160000
DTSTAMP:20260423T184224
CREATED:20250707T150812Z
LAST-MODIFIED:20250707T150812Z
UID:1385-1775127600-1775145600@suffah.academy
SUMMARY:Parent Conferences - No School
DESCRIPTION:
URL:https://suffah.academy/event/parent-conferences-no-school/
END:VEVENT
BEGIN:VEVENT
DTSTART;TZID=UTC:20260326T110000
DTEND;TZID=UTC:20260326T130000
DTSTAMP:20260423T184224
CREATED:20250830T215540Z
LAST-MODIFIED:20260203T181123Z
UID:1513-1774522800-1774530000@suffah.academy
SUMMARY:100-day & Eid celebration
DESCRIPTION:100th-day & Eid celebration
URL:https://suffah.academy/event/100th-day-celebration/
END:VEVENT
BEGIN:VEVENT
DTSTART;TZID=UTC:20260316T000000
DTEND;TZID=UTC:20260320T235959
DTSTAMP:20260423T184224
CREATED:20250707T145116Z
LAST-MODIFIED:20250707T145116Z
UID:1376-1773619200-1774051199@suffah.academy
SUMMARY:Ramadan & Eid Holidays
DESCRIPTION:Ramadan & Eid Holidays
URL:https://suffah.academy/event/ramadan-eid-holidays/
END:VEVENT
BEGIN:VEVENT
DTSTART;TZID=UTC:20260216T080000
DTEND;TZID=UTC:20260217T170000
DTSTAMP:20260423T184224
CREATED:20260203T181227Z
LAST-MODIFIED:20260203T181227Z
UID:1581-1771228800-1771347600@suffah.academy
SUMMARY:Service Day - No School
DESCRIPTION:Service Day – No School
URL:https://suffah.academy/event/service-day-no-school/
END:VEVENT
BEGIN:VEVENT
DTSTART;TZID=UTC:20260119T130000
DTEND;TZID=UTC:20260119T170000
DTSTAMP:20260423T184224
CREATED:20250707T151257Z
LAST-MODIFIED:20250707T155405Z
UID:1387-1768827600-1768842000@suffah.academy
SUMMARY:Open House
DESCRIPTION:Open House
URL:https://suffah.academy/event/open-house-no-school/
END:VEVENT
BEGIN:VEVENT
DTSTART;TZID=UTC:20260101T000000
DTEND;TZID=UTC:20260102T235959
DTSTAMP:20260423T184224
CREATED:20250707T144846Z
LAST-MODIFIED:20250707T144846Z
UID:1374-1767225600-1767398399@suffah.academy
SUMMARY:Preschool - No School
DESCRIPTION:Preschool – No School
URL:https://suffah.academy/event/preschool-no-school-2/
END:VEVENT
BEGIN:VEVENT
DTSTART;TZID=UTC:20251225T000000
DTEND;TZID=UTC:20251226T235959
DTSTAMP:20260423T184224
CREATED:20250707T144751Z
LAST-MODIFIED:20250707T144751Z
UID:1372-1766620800-1766793599@suffah.academy
SUMMARY:Preschool - No School
DESCRIPTION:Preschool – No School
URL:https://suffah.academy/event/preschool-no-school/
END:VEVENT
BEGIN:VEVENT
DTSTART;TZID=UTC:20251224T000000
DTEND;TZID=UTC:20260102T235959
DTSTAMP:20260423T184224
CREATED:20250707T144615Z
LAST-MODIFIED:20250707T144615Z
UID:1370-1766534400-1767398399@suffah.academy
SUMMARY:Winter break - Elementary School
DESCRIPTION:Winter break – Elementary School (No School) \nPre-School will be Open
URL:https://suffah.academy/event/winter-break-elementary-school/
END:VEVENT
BEGIN:VEVENT
DTSTART;TZID=UTC:20251211T110000
DTEND;TZID=UTC:20251211T160000
DTSTAMP:20260423T184224
CREATED:20250707T150613Z
LAST-MODIFIED:20250707T150658Z
UID:1382-1765450800-1765468800@suffah.academy
SUMMARY:Parent Conferences - No School
DESCRIPTION:
URL:https://suffah.academy/event/parent-conference-2/
END:VEVENT
BEGIN:VEVENT
DTSTART;TZID=UTC:20251127T000000
DTEND;TZID=UTC:20251128T235959
DTSTAMP:20260423T184224
CREATED:20250707T144330Z
LAST-MODIFIED:20250707T144330Z
UID:1368-1764201600-1764374399@suffah.academy
SUMMARY:Thanksgiving Day - No School
DESCRIPTION:Thanksgiving Day – No School
URL:https://suffah.academy/event/thanksgiving-day-no-school/
END:VEVENT
BEGIN:VEVENT
DTSTART;TZID=UTC:20250908T183000
DTEND;TZID=UTC:20250908T193000
DTSTAMP:20260423T184224
CREATED:20250810T215702Z
LAST-MODIFIED:20250826T134849Z
UID:1437-1757356200-1757359800@suffah.academy
SUMMARY:Curriculum Night
DESCRIPTION:Monday\, September 8\, 2025 @ 6:30 PM to 7:30 PM
URL:https://suffah.academy/event/curriculum-evening/
END:VEVENT
BEGIN:VEVENT
DTSTART;TZID=UTC:20250904T090000
DTEND;TZID=UTC:20250904T150000
DTSTAMP:20260423T184224
CREATED:20250707T211431Z
LAST-MODIFIED:20250707T211431Z
UID:1406-1756976400-1756998000@suffah.academy
SUMMARY:Elementary School: First of school year 2025-2026
DESCRIPTION:
URL:https://suffah.academy/event/elementary-school-first-of-school-year-2025-2026/
END:VEVENT
BEGIN:VEVENT
DTSTART;TZID=UTC:20250902T090000
DTEND;TZID=UTC:20250902T170000
DTSTAMP:20260423T184224
CREATED:20250426T012716Z
LAST-MODIFIED:20250707T211753Z
UID:1269-1756803600-1756832400@suffah.academy
SUMMARY:Pre-School : First day of school year 2025-2026
DESCRIPTION:
URL:https://suffah.academy/event/first-day-of-school-2025-2026/
END:VEVENT
BEGIN:VEVENT
DTSTART;TZID=UTC:20250901T000000
DTEND;TZID=UTC:20250901T235959
DTSTAMP:20260423T184224
CREATED:20250829T022351Z
LAST-MODIFIED:20250829T022351Z
UID:1511-1756684800-1756771199@suffah.academy
SUMMARY:Labor Day - No School
DESCRIPTION:Suffah Academy will be closed on Monday\, September 1\, 2025\, in observance of Labor Day.
URL:https://suffah.academy/event/labor-day-no-school/
END:VEVENT
BEGIN:VEVENT
DTSTART;TZID=UTC:20250805T000000
DTEND;TZID=UTC:20250828T235959
DTSTAMP:20260423T184224
CREATED:20250317T185553Z
LAST-MODIFIED:20250512T150724Z
UID:1214-1754352000-1756425599@suffah.academy
SUMMARY:Extended Summer Camp
DESCRIPTION:
URL:https://suffah.academy/event/extended-summer-camp/
END:VEVENT
BEGIN:VEVENT
DTSTART;TZID=UTC:20250623T000000
DTEND;TZID=UTC:20250731T235959
DTSTAMP:20260423T184224
CREATED:20241212T202056Z
LAST-MODIFIED:20250317T185456Z
UID:1001-1750636800-1754006399@suffah.academy
SUMMARY:Summary Camp
DESCRIPTION:
URL:https://suffah.academy/event/summary-camp/
END:VEVENT
BEGIN:VEVENT
DTSTART;TZID=UTC:20250623T000000
DTEND;TZID=UTC:20250823T235959
DTSTAMP:20260423T184224
CREATED:20240603T230041Z
LAST-MODIFIED:20250317T190724Z
UID:695-1750636800-1755993599@suffah.academy
SUMMARY:Extended Days in Summer
DESCRIPTION:Extended Days in Summer
URL:https://suffah.academy/event/summer-days/
END:VEVENT
BEGIN:VEVENT
DTSTART;TZID=UTC:20250619T000000
DTEND;TZID=UTC:20250619T235959
DTSTAMP:20260423T184224
CREATED:20250317T190557Z
LAST-MODIFIED:20250519T220258Z
UID:1216-1750291200-1750377599@suffah.academy
SUMMARY:Gradation / Last day of school
DESCRIPTION:Gradation : 11:00 am
URL:https://suffah.academy/event/last-day-of-school/
END:VEVENT
BEGIN:VEVENT
DTSTART;TZID=UTC:20250612T100000
DTEND;TZID=UTC:20250612T170000
DTSTAMP:20260423T184224
CREATED:20250426T011912Z
LAST-MODIFIED:20250602T222236Z
UID:1265-1749722400-1749747600@suffah.academy
SUMMARY:Open House - Islamic School and Summer Camp
DESCRIPTION:No School – Parent are invite to bring their Friends and Family
URL:https://suffah.academy/event/open-house-islamic-school-and-summer-camp/
END:VEVENT
BEGIN:VEVENT
DTSTART;TZID=UTC:20250605T000000
DTEND;TZID=UTC:20250606T235959
DTSTAMP:20260423T184224
CREATED:20240603T225321Z
LAST-MODIFIED:20250426T012207Z
UID:689-1749081600-1749254399@suffah.academy
SUMMARY:Eid ul Adha (No School)
DESCRIPTION:Eid ul Adha (No School)
URL:https://suffah.academy/event/parent-conferences-2/
END:VEVENT
BEGIN:VEVENT
DTSTART;TZID=UTC:20250528T110000
DTEND;TZID=UTC:20250528T163000
DTSTAMP:20260423T184224
CREATED:20250426T011502Z
LAST-MODIFIED:20250426T011502Z
UID:1263-1748430000-1748449800@suffah.academy
SUMMARY:Parent conference
DESCRIPTION:No School\, But Parent will meet with Teachers.
URL:https://suffah.academy/event/parent-conference/
END:VEVENT
BEGIN:VEVENT
DTSTART;TZID=UTC:20250526T000000
DTEND;TZID=UTC:20250526T235959
DTSTAMP:20260423T184224
CREATED:20240603T225708Z
LAST-MODIFIED:20240603T225708Z
UID:693-1748217600-1748303999@suffah.academy
SUMMARY:No School
DESCRIPTION:
URL:https://suffah.academy/event/no-school-7/
END:VEVENT
BEGIN:VEVENT
DTSTART;TZID=UTC:20250418T000000
DTEND;TZID=UTC:20250418T235959
DTSTAMP:20260423T184224
CREATED:20240603T225546Z
LAST-MODIFIED:20241212T201553Z
UID:691-1744934400-1745020799@suffah.academy
SUMMARY:No School
DESCRIPTION:
URL:https://suffah.academy/event/no-school-6/
END:VEVENT
BEGIN:VEVENT
DTSTART;TZID=UTC:20250324T000000
DTEND;TZID=UTC:20250331T235959
DTSTAMP:20260423T184224
CREATED:20240603T224502Z
LAST-MODIFIED:20241212T202930Z
UID:683-1742774400-1743465599@suffah.academy
SUMMARY:No School
DESCRIPTION:Ramadan & Eid Holiday
URL:https://suffah.academy/event/no-school-4/
END:VEVENT
BEGIN:VEVENT
DTSTART;TZID=UTC:20250120T000000
DTEND;TZID=UTC:20250120T235959
DTSTAMP:20260423T184224
CREATED:20240603T225208Z
LAST-MODIFIED:20240603T225208Z
UID:687-1737331200-1737417599@suffah.academy
SUMMARY:No School
DESCRIPTION:
URL:https://suffah.academy/event/no-school-5/
END:VEVENT
BEGIN:VEVENT
DTSTART;TZID=UTC:20241230T000000
DTEND;TZID=UTC:20250101T235959
DTSTAMP:20260423T184224
CREATED:20241212T200824Z
LAST-MODIFIED:20241212T200824Z
UID:997-1735516800-1735775999@suffah.academy
SUMMARY:No School
DESCRIPTION:
URL:https://suffah.academy/event/no-school-8/
END:VEVENT
BEGIN:VEVENT
DTSTART;TZID=UTC:20241225T000000
DTEND;TZID=UTC:20241225T235959
DTSTAMP:20260423T184224
CREATED:20240603T224404Z
LAST-MODIFIED:20241212T200611Z
UID:681-1735084800-1735171199@suffah.academy
SUMMARY:No School
DESCRIPTION:
URL:https://suffah.academy/event/no-school-3/
END:VEVENT
BEGIN:VEVENT
DTSTART;TZID=UTC:20241127T000000
DTEND;TZID=UTC:20241128T235959
DTSTAMP:20260423T184224
CREATED:20240603T224103Z
LAST-MODIFIED:20241125T200327Z
UID:679-1732665600-1732838399@suffah.academy
SUMMARY:No School
DESCRIPTION:
URL:https://suffah.academy/event/no-school-2/
END:VEVENT
BEGIN:VEVENT
DTSTART;TZID=UTC:20241126T120000
DTEND;TZID=UTC:20241126T150000
DTSTAMP:20260423T184224
CREATED:20240603T223932Z
LAST-MODIFIED:20240603T224226Z
UID:677-1732622400-1732633200@suffah.academy
SUMMARY:Parent Conferences
DESCRIPTION:
URL:https://suffah.academy/event/parent-conferences/
END:VEVENT
BEGIN:VEVENT
DTSTART;TZID=UTC:20240903T090000
DTEND;TZID=UTC:20240903T151500
DTSTAMP:20260423T184224
CREATED:20231114T162010Z
LAST-MODIFIED:20240817T014024Z
UID:398-1725354000-1725376500@suffah.academy
SUMMARY:First Day of School
DESCRIPTION:First Day of School \n 
URL:https://suffah.academy/event/first-day-of-the-school/
LOCATION:ISGVF School Building\, 958 N Valley Forge Rd\, Devon\, PA\, 19333\, United States
ORGANIZER;CN="Suffah Academy":MAILTO:admin@suffah.academy
END:VEVENT
END:VCALENDAR