BEGIN:VCALENDAR
VERSION:2.0
PRODID:-//Suffah Academy - ECPv6.15.20//NONSGML v1.0//EN
CALSCALE:GREGORIAN
METHOD:PUBLISH
X-ORIGINAL-URL:https://suffah.academy
X-WR-CALDESC:Events for Suffah Academy
REFRESH-INTERVAL;VALUE=DURATION:PT1H
X-Robots-Tag:noindex
X-PUBLISHED-TTL:PT1H
BEGIN:VTIMEZONE
TZID:UTC
BEGIN:STANDARD
TZOFFSETFROM:+0000
TZOFFSETTO:+0000
TZNAME:UTC
DTSTART:20230101T000000
END:STANDARD
END:VTIMEZONE
BEGIN:VEVENT
DTSTART;TZID=UTC:20250528T110000
DTEND;TZID=UTC:20250528T163000
DTSTAMP:20260423T220214
CREATED:20250426T011502Z
LAST-MODIFIED:20250426T011502Z
UID:1263-1748430000-1748449800@suffah.academy
SUMMARY:Parent conference
DESCRIPTION:No School\, But Parent will meet with Teachers.
URL:https://suffah.academy/event/parent-conference/
END:VEVENT
BEGIN:VEVENT
DTSTART;TZID=UTC:20250526T000000
DTEND;TZID=UTC:20250526T235959
DTSTAMP:20260423T220214
CREATED:20240603T225708Z
LAST-MODIFIED:20240603T225708Z
UID:693-1748217600-1748303999@suffah.academy
SUMMARY:No School
DESCRIPTION:
URL:https://suffah.academy/event/no-school-7/
END:VEVENT
BEGIN:VEVENT
DTSTART;TZID=UTC:20250418T000000
DTEND;TZID=UTC:20250418T235959
DTSTAMP:20260423T220214
CREATED:20240603T225546Z
LAST-MODIFIED:20241212T201553Z
UID:691-1744934400-1745020799@suffah.academy
SUMMARY:No School
DESCRIPTION:
URL:https://suffah.academy/event/no-school-6/
END:VEVENT
BEGIN:VEVENT
DTSTART;TZID=UTC:20250324T000000
DTEND;TZID=UTC:20250331T235959
DTSTAMP:20260423T220214
CREATED:20240603T224502Z
LAST-MODIFIED:20241212T202930Z
UID:683-1742774400-1743465599@suffah.academy
SUMMARY:No School
DESCRIPTION:Ramadan & Eid Holiday
URL:https://suffah.academy/event/no-school-4/
END:VEVENT
BEGIN:VEVENT
DTSTART;TZID=UTC:20250120T000000
DTEND;TZID=UTC:20250120T235959
DTSTAMP:20260423T220214
CREATED:20240603T225208Z
LAST-MODIFIED:20240603T225208Z
UID:687-1737331200-1737417599@suffah.academy
SUMMARY:No School
DESCRIPTION:
URL:https://suffah.academy/event/no-school-5/
END:VEVENT
BEGIN:VEVENT
DTSTART;TZID=UTC:20241230T000000
DTEND;TZID=UTC:20250101T235959
DTSTAMP:20260423T220214
CREATED:20241212T200824Z
LAST-MODIFIED:20241212T200824Z
UID:997-1735516800-1735775999@suffah.academy
SUMMARY:No School
DESCRIPTION:
URL:https://suffah.academy/event/no-school-8/
END:VEVENT
BEGIN:VEVENT
DTSTART;TZID=UTC:20241225T000000
DTEND;TZID=UTC:20241225T235959
DTSTAMP:20260423T220214
CREATED:20240603T224404Z
LAST-MODIFIED:20241212T200611Z
UID:681-1735084800-1735171199@suffah.academy
SUMMARY:No School
DESCRIPTION:
URL:https://suffah.academy/event/no-school-3/
END:VEVENT
BEGIN:VEVENT
DTSTART;TZID=UTC:20241127T000000
DTEND;TZID=UTC:20241128T235959
DTSTAMP:20260423T220214
CREATED:20240603T224103Z
LAST-MODIFIED:20241125T200327Z
UID:679-1732665600-1732838399@suffah.academy
SUMMARY:No School
DESCRIPTION:
URL:https://suffah.academy/event/no-school-2/
END:VEVENT
BEGIN:VEVENT
DTSTART;TZID=UTC:20241126T120000
DTEND;TZID=UTC:20241126T150000
DTSTAMP:20260423T220214
CREATED:20240603T223932Z
LAST-MODIFIED:20240603T224226Z
UID:677-1732622400-1732633200@suffah.academy
SUMMARY:Parent Conferences
DESCRIPTION:
URL:https://suffah.academy/event/parent-conferences/
END:VEVENT
BEGIN:VEVENT
DTSTART;TZID=UTC:20240903T090000
DTEND;TZID=UTC:20240903T151500
DTSTAMP:20260423T220214
CREATED:20231114T162010Z
LAST-MODIFIED:20240817T014024Z
UID:398-1725354000-1725376500@suffah.academy
SUMMARY:First Day of School
DESCRIPTION:First Day of School \n 
URL:https://suffah.academy/event/first-day-of-the-school/
LOCATION:ISGVF School Building\, 958 N Valley Forge Rd\, Devon\, PA\, 19333\, United States
ORGANIZER;CN="Suffah Academy":MAILTO:admin@suffah.academy
END:VEVENT
BEGIN:VEVENT
DTSTART;TZID=UTC:20240902T000000
DTEND;TZID=UTC:20240902T235959
DTSTAMP:20260423T220214
CREATED:20240603T223459Z
LAST-MODIFIED:20240603T223459Z
UID:674-1725235200-1725321599@suffah.academy
SUMMARY:No School
DESCRIPTION:No School
URL:https://suffah.academy/event/no-school/
END:VEVENT
BEGIN:VEVENT
DTSTART;TZID=UTC:20240830T150000
DTEND;TZID=UTC:20240830T203000
DTSTAMP:20260423T220214
CREATED:20231114T161826Z
LAST-MODIFIED:20240817T013800Z
UID:395-1725030000-1725049800@suffah.academy
SUMMARY:Parent - Teacher Meeting
DESCRIPTION:Parent – Teacher Meeting \nAs we prepare for the upcoming school year at Suffah Academy\, we would like to invite you to a parent-teacher meeting on Friday\, August 30\, 2024 to discuss your child’s application\, any emergency notes\, known allergies\, and behavior observations (if any). This information will help our teachers better understand and support your child. To make scheduling easier\, please choose a 30-minute slot from our appointment page: https://suffah.academy/appointment/. Once you have selected a time\, you will receive a confirmation email.\n\nAppointment
URL:https://suffah.academy/event/meet-suffah-academy-team/
LOCATION:ISGVF School Building\, 958 N Valley Forge Rd\, Devon\, PA\, 19333\, United States
ORGANIZER;CN="Suffah Academy":MAILTO:admin@suffah.academy
END:VEVENT
BEGIN:VEVENT
DTSTART;TZID=UTC:20240622T170000
DTEND;TZID=UTC:20240622T210000
DTSTAMP:20260423T220214
CREATED:20231114T161547Z
LAST-MODIFIED:20240603T222538Z
UID:393-1719075600-1719090000@suffah.academy
SUMMARY:Open House
DESCRIPTION:Guest Speaker: Shaykh Mohammad Elshinawy serves as the Religious Director at Jesus Son of Mary Mosque in Allentown\, Pennsylvania\, and holds the position of Associate Director of Systematic Theology at Yaqeen Institute. Additionally\, he contributes as an Instructor at Legacy International Online High School. His extensive knowledge and expertise make him a revered scholar in our society.
URL:https://suffah.academy/event/open-house/
LOCATION:ISGVF Activity Hall\, 958 N Valley Forge Rd\, Devon\, PA\, 19333\, United States
ORGANIZER;CN="Suffah Academy":MAILTO:admin@suffah.academy
END:VEVENT
BEGIN:VEVENT
DTSTART;TZID=UTC:20240419T170000
DTEND;TZID=UTC:20240419T200000
DTSTAMP:20260423T220214
CREATED:20240502T231957Z
LAST-MODIFIED:20240502T231957Z
UID:645-1713546000-1713556800@suffah.academy
SUMMARY:Open House
DESCRIPTION:
URL:https://suffah.academy/event/open-house-2/
END:VEVENT
BEGIN:VEVENT
DTSTART;TZID=UTC:20240204T170000
DTEND;TZID=UTC:20240204T200000
DTSTAMP:20260423T220214
CREATED:20231114T155420Z
LAST-MODIFIED:20240123T041608Z
UID:381-1707066000-1707076800@suffah.academy
SUMMARY:Suffah Academy - Introduction / In-Person New Student registration
DESCRIPTION:Guest Speaker: Imam Arqum Rashid & Imam Aqib Choudhury. \nIman Arqum is the Resident Scholar and Imam at the Islamic Society of Central Delaware and an Assistant State’s Attorney in Baltimore. He serves as the current director for Riwaq Institute. Arqum is a graduate of al-Azhar University with a degree in Islamic law and of Delaware Law School with a law degree. \nImam Aqib Choudhury\, studied at the Islamic University of Madinah\, where he obtained a Diploma of Arabic Language and Bachelor’s from the College of Islamic Law and Legal Theory. He is currently pursuing his Masters from the Global University of Islamic Finance. He is an Imam at ISGVF. \n \n 
URL:https://suffah.academy/event/suffah-academy-opening/
LOCATION:ISGVF Activity Hall\, 958 N Valley Forge Rd\, Devon\, PA\, 19333\, United States
ORGANIZER;CN="Suffah Academy":MAILTO:admin@suffah.academy
END:VEVENT
END:VCALENDAR